BEGIN:VCALENDAR
VERSION:2.0
PRODID:-//wp-events-plugin.com//6.6.1//EN
BEGIN:VEVENT
UID:55dd08fc-5964-47af-a1f9-a771ecb08296
DTSTART;VALUE=DATE:20141105
DTEND;VALUE=DATE:20141106
DTSTAMP:20260419T130951Z
SUMMARY:Führungskräfteseminar Werdenfelser Weg
DESCRIPTION:&nbsp\;\n\nDozenten: Richterin Birgit Schwarz und Herr Jörg Kahl\n\nLichtenhaidestr. 15\n96052 Bamberg\n\n- Genauer Termin noch festzulegen -\n\nAnmeldung über bbw\n\n\n\n&nbsp\;\n\n&nbsp\;\n\n&nbsp\;\n\n&nbsp\;
LOCATION:Bamberg\, Lichtenhaidestr. 15\, Bamberg\, Bayern\, 96052\, Bayern\, Deutschland
URL:
END:VEVENT
END:VCALENDAR