BEGIN:VCALENDAR
VERSION:2.0
PRODID:-//wp-events-plugin.com//6.6.1//EN
BEGIN:VEVENT
UID:db4c60b6-a486-4aed-85d7-9033b989e02b
DTSTART:20170920T083000Z
DTEND:20170920T150000Z
DTSTAMP:20170821T161400Z
SUMMARY:Fachveranstaltung zu freiheitsentziehenden Maßnahmen in Brandenburg
DESCRIPTION:&nbsp\;\n\nIm Rahmen der Fachtagung sollen alle Beteiligten\, die in den unterschiedlichen Verfahren und Prozessen einbezogen sind\, in Austausch treten. Dies sind insbesondere Richter\, Betreuer\, Angehörige\, Einrichtungsleitungen\, Pflegedienstleitungen\, Wohnbereichsleitungen und Pflegefachkräfte.\n\nDurch die Fachtagung werden die Teilnehmerinnen und Teilnehmer in der Vermeidung von körpernahen\, körperfernen und medikamentösen Maßnahmen zur Freiheitsentziehung weitergebildet und es werden gesetzliche Regelungen oder das Antragsverfahren erläutert\, so wie der Unterschied zu freiheitsbeschränkenden Maßnahmen geklärt.\n\nMit dieser Fachtagung lernen die Teilnehmer alternative Maßnahmen und deren Umsetzung in der Praxis kennen. Zudem lernen Sie mögliche Kommunikationsstrategien\, um mit den Angehörigen und Betreuern in besseren Austausch treten und auch diese entsprechend aufklären zu können.\n\n\n\n\n\n\n\n\n\n\nDozenten\nHerr Sandy Großmann\, Susanne Stojan-Rayer\, Madeleine Viol\, Ellen Fährmann\, Dr. Eick Fritsche\, Dr. Oliver Stegemann\,\n\n\n\n\n\n\n\n\n\n\n\nLink zur Anmeldung
LOCATION:Filmforum Schwedt\, Handelsstraße 23 \, Schwedt/Oder\, 16303\, Deutschland
URL:https://www.werdenfelser-weg-original.de/events/fachveranstaltung-zu-freiheitsentziehenden-massnahmen-in-brandenburg/
END:VEVENT
END:VCALENDAR