BEGIN:VCALENDAR
VERSION:2.0
PRODID:-//wp-events-plugin.com//6.6.1//EN
BEGIN:VEVENT
UID:40d98975-1361-4ee5-984f-08f74fc744b5
DTSTART;VALUE=DATE:20140416
DTEND;VALUE=DATE:20140417
DTSTAMP:20140416T160216Z
SUMMARY:alma Domizil „An der Partnach“
DESCRIPTION:alma Domizil „An der Partnach“\nLagerhausstraße 9\n82467 Garmisch-Partenkirchen\nTel. (08821 ) 9 19-0\nFax: (08821) 9 19-100\nLink zur Homepage
LOCATION:Garmisch-Partenkirchen\, alma Domizil „An der Partnach“\, Lagerhausstraße 9 \, Garmisch-Partenkirchen \, Bayern\, 82467\, Bayern\, Deutschland
URL:https://www.werdenfelser-weg-original.de/events/alma-domizil-an-der-partnach/
END:VEVENT
BEGIN:VEVENT
UID:6aac1116-a99d-4cf3-a263-7d6ce3a60233
DTSTART;VALUE=DATE:20150124
DTEND;VALUE=DATE:20160101
DTSTAMP:20150203T125547Z
SUMMARY:Jo Kurti
DESCRIPTION:Mein Name ist Kurti\, Johann Kurti. Ich habe die Lizenz zum Fesseln. Ich kann und darf alles Fesseln\, absolut alles. Auch Sie.\nLeider ist der Geltungsbereich meiner Lizenz nicht mehr dass\, was er mal war. Und die Aussichten auf Wachstum sind noch schlechter. Mir geht es wie dem Euro: Erst einen harten Eindruck machen\, und dann ganz weich in der Geschichte verschwinden.\n\nAber noch bin ich da\, und Sie können mich buchen. Ich führe jeden Fesselungsauftrag aus. Effizient\, kompromisslos und ohne Ansehen der Person. Darauf ist Verlass.\n\nKontaktangaben:\n\nJohann Kurti\nSackgang 666\n65432 Leinfelden\nTelefon: 066 5555 4444 333 22 1\n\nBuchen Sie mich einfach hier. Achten Sie aber auf Eines: Erst die Kohle\, dann die Fessel.\n\nSollte es nach der unwiderruflichen Auftragsvergabe irgendwelche Fragen geben\, dann wenden Sie sich bitte vertrauensvoll an meine Freunde von "Inkasso Moskau". Die regeln das. Garantiert.
LOCATION:Garmisch-Partenkirchen\, alma Domizil „An der Partnach“\, Lagerhausstraße 9 \, Garmisch-Partenkirchen \, Bayern\, 82467\, Bayern\, Deutschland
URL:https://www.werdenfelser-weg-original.de/events/johann-kurti/
END:VEVENT
END:VCALENDAR