BEGIN:VCALENDAR
VERSION:2.0
PRODID:-//wp-events-plugin.com//6.6.1//EN
BEGIN:VEVENT
UID:14f7ce21-755f-4ae3-88a7-af4ccf291f95
DTSTART:20141117T230000Z
DTEND:20141117T230000Z
DTSTAMP:20141118T175915Z
SUMMARY:Kreisalten- und Pflegeheim Werneck
DESCRIPTION:Kreisalten- und Pflegeheim Werneck\nSpitalstr. 2 - 4\n97440 Werneck\nTelefon: 0 97 22 / 5 08-0\nTelefax: 0 97 22 / 5 08-16 29\nE-Mail: info@kah-werneck.de\nLink zur Homepage
LOCATION:Kreisalten- und Pflegeheim Werneck\, Spitalstr. 2 - 4\, Werneck\, 97440\, Deutschland
URL:https://www.werdenfelser-weg-original.de/events/kreisalten-und-pflegeheim-werneck/
END:VEVENT
END:VCALENDAR