BEGIN:VCALENDAR
VERSION:2.0
PRODID:-//wp-events-plugin.com//6.6.1//EN
BEGIN:VEVENT
UID:bc366800-bdb4-43b6-bebd-87ebc292537c
DTSTART:20140320T230000Z
DTEND:20140320T230000Z
DTSTAMP:20140321T093330Z
SUMMARY:Marie-Eberth-Altenheim Schongau
DESCRIPTION:Marie-Eberth-Altenheim\nMarie-Eberth-Straße 10\n86956 Schongau\nTel. 08861/215-353\nFax: 08861/215-446\n\nLink zur Homepage
LOCATION:Marie-Eberth-Altenheim Schongau\, Marie-Eberth-Straße 10\, Schongau\, Bayern\,  86956\, Bayern\, Deutschland
URL:https://www.werdenfelser-weg-original.de/events/marie-eberth-altenheim-schongau/
END:VEVENT
END:VCALENDAR