BEGIN:VCALENDAR
VERSION:2.0
PRODID:-//wp-events-plugin.com//6.6.1//EN
BEGIN:VEVENT
UID:54d18742-69c1-410c-90fb-c42d654ac099
DTSTART;VALUE=DATE:20170414
DTEND;VALUE=DATE:20170415
DTSTAMP:20170414T151732Z
SUMMARY:Seniorenhaus "Stemweder Berg"
DESCRIPTION:Seniorenhaus "Stemweder Berg"\nHeitkampsort 21\n32351 Stemwede-Wehdem\nTelefon: +49 (0) 5773 99129-0\nTelefax: +49 (0) 5773 99129-117\nE-Mail: info@sh-stemweder-berg.de\nLink ins Internet
LOCATION:Seniorenhaus "Stemweder Berg"\, Heitkampsort 21\, Stemwede-Wehdem\, 32351\, Deutschland
URL:https://www.werdenfelser-weg-original.de/events/54068/
END:VEVENT
END:VCALENDAR