BEGIN:VCALENDAR
VERSION:2.0
PRODID:-//wp-events-plugin.com//6.6.1//EN
BEGIN:VEVENT
UID:be9052ec-fcc8-4724-b3f3-4f47fcd88a3c
DTSTART;VALUE=DATE:20170414
DTEND;VALUE=DATE:20170415
DTSTAMP:20170414T151332Z
SUMMARY:Seniorenzentrum "Bacchus Ruh"
DESCRIPTION:Seniorenzentrum "Bacchus Ruh"\nFriedrich-Ebert-Straße 40-43\n37520 Osterode-Lerbach\nTelefon: +49 (0) 5522 9017-0\nTelefax: +49 (0) 5522 9017-40\nE-Mail: info@sz-bacchus-ruh.de\nLink ins Internet
LOCATION:Seniorenzentrum "Bacchus Ruh"\, Friedrich-Ebert-Straße 40-43\, Osterode-Lerbach\, 37520\, Deutschland
URL:https://www.werdenfelser-weg-original.de/events/seniorenzentrum-bacchus-ruh/
END:VEVENT
END:VCALENDAR