BEGIN:VCALENDAR
VERSION:2.0
PRODID:-//wp-events-plugin.com//6.6.1//EN
BEGIN:VEVENT
UID:c0611ae9-0015-4222-a3ed-ba055df24156
DTSTART;VALUE=DATE:20170414
DTEND;VALUE=DATE:20170415
DTSTAMP:20170414T150510Z
SUMMARY:Seniorenzentrum "Mühlenau"
DESCRIPTION:Seniorenzentrum "Mühlenau"\nBarentoner Straße 4-6\n56305 Puderbach\nTelefon: +49 (0)2684 9765-0\nTelefax: +49 (0)2684 9765-29\nE-Mail: info@sz-muehlenau.de\nLink zur Internetseite
LOCATION:Seniorenzentrum "Mühlenau"\, Barentoner Straße 4-6\, Puderbach\, 56305\, Deutschland
URL:https://www.werdenfelser-weg-original.de/events/seniorenzentrum-muehlenau-2/
END:VEVENT
END:VCALENDAR