BEGIN:VCALENDAR
VERSION:2.0
PRODID:-//wp-events-plugin.com//6.6.1//EN
BEGIN:VEVENT
UID:01d524a7-57fc-4981-bbe8-edf09deb16db
DTSTART;VALUE=DATE:20140322
DTEND;VALUE=DATE:20140323
DTSTAMP:20141123T154926Z
SUMMARY:Altenheim St.Vinzenz Garmisch-Partenkirchen
DESCRIPTION:Altenheim St. Vinzenz\nHölzlweg 43\n82467 Garmisch-Partenkirchen\nTelefon: 08821 73217-0\nFax: 08821 73217-110\nE-Mail: st-vinzenz@caritasmuenchen.de\nLink zur Homepage
LOCATION:St.Vinzenz Garmisch-Partenkirchen\, Hölzlweg 43\, Garmisch-Partenkirchen\, Bayern\, 82467\, Bayern\, Deutschland
URL:https://www.werdenfelser-weg-original.de/events/st-vinzenz-garmisch-partenkirchen/
END:VEVENT
END:VCALENDAR